BEGIN:VCALENDAR
VERSION:2.0
PRODID:-//Huis van actief burgerschap - ECPv6.15.20//NONSGML v1.0//EN
CALSCALE:GREGORIAN
METHOD:PUBLISH
X-ORIGINAL-URL:https://huisvanactiefburgerschap.nl
X-WR-CALDESC:Evenementen voor Huis van actief burgerschap
REFRESH-INTERVAL;VALUE=DURATION:PT1H
X-Robots-Tag:noindex
X-PUBLISHED-TTL:PT1H
BEGIN:VTIMEZONE
TZID:Europe/Amsterdam
BEGIN:DAYLIGHT
TZOFFSETFROM:+0100
TZOFFSETTO:+0200
TZNAME:CEST
DTSTART:20240331T010000
END:DAYLIGHT
BEGIN:STANDARD
TZOFFSETFROM:+0200
TZOFFSETTO:+0100
TZNAME:CET
DTSTART:20241027T010000
END:STANDARD
BEGIN:DAYLIGHT
TZOFFSETFROM:+0100
TZOFFSETTO:+0200
TZNAME:CEST
DTSTART:20250330T010000
END:DAYLIGHT
BEGIN:STANDARD
TZOFFSETFROM:+0200
TZOFFSETTO:+0100
TZNAME:CET
DTSTART:20251026T010000
END:STANDARD
BEGIN:DAYLIGHT
TZOFFSETFROM:+0100
TZOFFSETTO:+0200
TZNAME:CEST
DTSTART:20260329T010000
END:DAYLIGHT
BEGIN:STANDARD
TZOFFSETFROM:+0200
TZOFFSETTO:+0100
TZNAME:CET
DTSTART:20261025T010000
END:STANDARD
END:VTIMEZONE
BEGIN:VEVENT
DTSTART;TZID=Europe/Amsterdam:20250916T190000
DTEND;TZID=Europe/Amsterdam:20250916T210000
DTSTAMP:20260420T122318
CREATED:20250722T100049Z
LAST-MODIFIED:20251203T101842Z
UID:10000016-1758049200-1758056400@huisvanactiefburgerschap.nl
SUMMARY:De Kleurrijke Denker
DESCRIPTION:Welkom bij deze serie groepsbijeenkomsten waarin ouderen en jongeren met elkaar in gesprek gaan rond het thema verbondenheid. Misschien zou je ook kunnen zeggen: eenheid in verscheidenheid. (dat verwijst dan naar non-dualiteit). \nIn een tijd waarin de verschillende generaties elkaar soms minder vanzelfsprekend ontmoeten\, willen we hier ruimte scheppen voor echte ontmoeting\, uitwisseling en inspiratie. Jong en oud brengen elk hun eigen ervaringen\, vragen en inzichten mee. \nWe laten ons in deze bijeenkomsten leiden door uitspraken uit verschillende wijsheidstradities: uit religies en levensbeschouwingen tot filosofieën van over de hele wereld. Deze woorden nodigen ons uit om stil te staan bij wat het betekent om met elkaar verbonden te zijn — als mensen\, als generaties\, als deel van een groter geheel. Met elkaar vormen we zo een bron van gedeelde wijsheid. \nElke bijeenkomst starten we met een korte reflectie op een citaat.  Daarna gaan we in gesprek\, in openheid en met respect voor ieders verhaal. \nWe hopen dat dit een plek mag zijn waar nieuwe verbindingen ontstaan\, en waar we samen ontdekken hoe oude woorden nieuwe betekenis kunnen krijgen — in het leven van vandaag. \nGratis toegankelijk. Aanmelden via volgend mailadres: roosrit@xs4all.nl\nVanaf dinsdag 16 september twee wekelijks\, zeven sessies.
URL:https://huisvanactiefburgerschap.nl/agenda/geen-tegenstellingen-maar-verbondenheid/2025-09-16/
CATEGORIES:Huisvanactiefburgerschap Utrecht
ATTACH;FMTTYPE=image/jpeg:https://huisvanactiefburgerschap.nl/wp-content/uploads/2025/07/kleurrijke-denker.jpg
END:VEVENT
BEGIN:VEVENT
DTSTART;TZID=Europe/Amsterdam:20250918T134500
DTEND;TZID=Europe/Amsterdam:20250918T170000
DTSTAMP:20260420T122318
CREATED:20250911T144756Z
LAST-MODIFIED:20250911T144902Z
UID:10000029-1758203100-1758214800@huisvanactiefburgerschap.nl
SUMMARY:Stadswandeling 'Door Haar Ogen' ENGLISH
DESCRIPTION:ENGLISH BELOW \n\nStadswandeling: ‘Door haar ogen’ door RAUM\n\n\nOp donderdag 18 september vindt de stadswandeling  ‘Door haar ogen’  plaats. Een voorproefje van de stadsconferentie “Onze stad ons canvas” die in maart 2026 plaatvindt.  Deze wandeling\, i.s.m. Nourhan Bassam\, CEO van The Gendered City\, is gemaakt n.a.v. drie ernstige geweldsincidenten tegen vrouwen een paar weken geleden en de campagne #Wijeisendenachtop. Deze (Engelstalige) wandeling laat je vanuit het vrouwelijk perspectief kijken naar de publieke ruimte. Hoe is de stad Utrecht ingericht? Waarom en waar voelen vrouwen zich niet veilig? En wat kan en moet beter?\n\nWe bieden deze wandeling gratis aan. Je mag ook aanschuiven bij het nagesprek.\nEr is een beperkt aantal kaarten. Reserveer hier je (gratis) plek.\n\nTijdschema wandeling ‘Door haar ogen’\n13:45 Inloop\, Huis van Actief Burgerschap\, Bibliotheek Utrecht\, Neude\n14:00 Start wandeling (beperkt aantal kaarten)\n16:00 Nagesprek\, Huis van Actief Burgerschap\n17:00 Afsluiting\n\nHeb je andere vragen? Mail naar info@raumutrecht.nl \n\n— \nCity Walk: Through Her Eyes by RAUM \nOn Thursday\, September 18\, the city walk Through Her Eyes will take place. It serves as a preview of the city conference Our City\, Our Canvas\, which will be held in March 2026. \nThis walk\, organized in collaboration with Nourhan Bassam\, CEO of The Gendered City\, was created in response to three recent violent incidents against women and the campaign #WeOwnTheNight. This English-language walk invites you to look at the public space from a female perspective. How is the city of Utrecht designed? Why and where do women feel unsafe? And what can and should be improved? \nParticipation in the walk is free of charge. You are also welcome to join the follow-up conversation.Spots are limited\, so make sure to reserve your (free) ticket here. \nSchedule – Through Her Eyes Walk13:45 – Walk-in at the House of Active Citizenship\, Utrecht Library\, Neude14:00 – Start of the walk (limited tickets available)16:00 – Follow-up conversation at the House of Active Citizenship17:00 – Closing \nDo you have any questions? Email us at info@raumutrecht.nl
URL:https://huisvanactiefburgerschap.nl/agenda/stadswandeling-door-haar-ogen-english/
LOCATION:Huis van Actief Burgerschap\, Neude 11\, Utecht\, NH\, 3512 AE\, Netherlands
CATEGORIES:Huisvanactiefburgerschap Utrecht
ATTACH;FMTTYPE=image/jpeg:https://huisvanactiefburgerschap.nl/wp-content/uploads/2025/09/RAUM.jpg
ORGANIZER;CN="RAUM":MAILTO:info@raumutrecht.nl
END:VEVENT
END:VCALENDAR