BEGIN:VCALENDAR
VERSION:2.0
PRODID:-//Huis van actief burgerschap - ECPv6.15.20//NONSGML v1.0//EN
CALSCALE:GREGORIAN
METHOD:PUBLISH
X-WR-CALNAME:Huis van actief burgerschap
X-ORIGINAL-URL:https://huisvanactiefburgerschap.nl
X-WR-CALDESC:Evenementen voor Huis van actief burgerschap
REFRESH-INTERVAL;VALUE=DURATION:PT1H
X-Robots-Tag:noindex
X-PUBLISHED-TTL:PT1H
BEGIN:VTIMEZONE
TZID:Europe/Amsterdam
BEGIN:DAYLIGHT
TZOFFSETFROM:+0100
TZOFFSETTO:+0200
TZNAME:CEST
DTSTART:20240331T010000
END:DAYLIGHT
BEGIN:STANDARD
TZOFFSETFROM:+0200
TZOFFSETTO:+0100
TZNAME:CET
DTSTART:20241027T010000
END:STANDARD
BEGIN:DAYLIGHT
TZOFFSETFROM:+0100
TZOFFSETTO:+0200
TZNAME:CEST
DTSTART:20250330T010000
END:DAYLIGHT
BEGIN:STANDARD
TZOFFSETFROM:+0200
TZOFFSETTO:+0100
TZNAME:CET
DTSTART:20251026T010000
END:STANDARD
BEGIN:DAYLIGHT
TZOFFSETFROM:+0100
TZOFFSETTO:+0200
TZNAME:CEST
DTSTART:20260329T010000
END:DAYLIGHT
BEGIN:STANDARD
TZOFFSETFROM:+0200
TZOFFSETTO:+0100
TZNAME:CET
DTSTART:20261025T010000
END:STANDARD
END:VTIMEZONE
BEGIN:VEVENT
DTSTART;TZID=Europe/Amsterdam:20251007T190000
DTEND;TZID=Europe/Amsterdam:20251007T210000
DTSTAMP:20260420T074534
CREATED:20250722T100049Z
LAST-MODIFIED:20251203T101842Z
UID:10000329-1759863600-1759870800@huisvanactiefburgerschap.nl
SUMMARY:De Kleurrijke Denker
DESCRIPTION:Welkom bij deze serie groepsbijeenkomsten waarin ouderen en jongeren met elkaar in gesprek gaan rond het thema verbondenheid. Misschien zou je ook kunnen zeggen: eenheid in verscheidenheid. (dat verwijst dan naar non-dualiteit). \nIn een tijd waarin de verschillende generaties elkaar soms minder vanzelfsprekend ontmoeten\, willen we hier ruimte scheppen voor echte ontmoeting\, uitwisseling en inspiratie. Jong en oud brengen elk hun eigen ervaringen\, vragen en inzichten mee. \nWe laten ons in deze bijeenkomsten leiden door uitspraken uit verschillende wijsheidstradities: uit religies en levensbeschouwingen tot filosofieën van over de hele wereld. Deze woorden nodigen ons uit om stil te staan bij wat het betekent om met elkaar verbonden te zijn — als mensen\, als generaties\, als deel van een groter geheel. Met elkaar vormen we zo een bron van gedeelde wijsheid. \nElke bijeenkomst starten we met een korte reflectie op een citaat.  Daarna gaan we in gesprek\, in openheid en met respect voor ieders verhaal. \nWe hopen dat dit een plek mag zijn waar nieuwe verbindingen ontstaan\, en waar we samen ontdekken hoe oude woorden nieuwe betekenis kunnen krijgen — in het leven van vandaag. \nGratis toegankelijk. Aanmelden via volgend mailadres: roosrit@xs4all.nl\nVanaf dinsdag 16 september twee wekelijks\, zeven sessies.
URL:https://huisvanactiefburgerschap.nl/agenda/geen-tegenstellingen-maar-verbondenheid/2025-10-07/
CATEGORIES:Huisvanactiefburgerschap Utrecht
ATTACH;FMTTYPE=image/jpeg:https://huisvanactiefburgerschap.nl/wp-content/uploads/2025/07/kleurrijke-denker.jpg
END:VEVENT
BEGIN:VEVENT
DTSTART;TZID=Europe/Amsterdam:20251009T193000
DTEND;TZID=Europe/Amsterdam:20251009T204500
DTSTAMP:20260420T074534
CREATED:20250619T103410Z
LAST-MODIFIED:20250619T103458Z
UID:10000013-1760038200-1760042700@huisvanactiefburgerschap.nl
SUMMARY:'Buiten je Bubbel' met Samenlezen
DESCRIPTION:Vind jij het ook spannend om met anderen te praten over beladen en polariserende onderwerpen als klimaatverandering\, de opvang van vluchtelingen of het denken in genderhokjes? Lijkt het je fijn om dat toch eens te doen op een prettige manier die gericht is op het creëren van onderling begrip en nuance in plaats van op debat en gelijk krijgen? Kom dan naar ‘Buiten je bubbel met samenlezen’\, tussen 11 september en 6 november tweewekelijks in het Huis van Actief Burgerschap\, van 19.30 tot 20.45 uur. Onder begeleiding van een vrijwilliger van de Culturele Apotheek lezen we telkens een paar rake gedichten en romanfragmenten rondom heikele thema’s en gaan we met elkaar in gesprek over onze gedachten\, associaties en ervaringen. We blijven weg van de welles-nietes-discussies maar omarmen de uitwisseling. Nieuwsgierig? Je bent van harte welkom! Aanmelden kan door een mail te sturen naar: marije@cultureleapotheek.nl
URL:https://huisvanactiefburgerschap.nl/agenda/buiten-je-bubbel-met-samenlezen/2025-10-09/
LOCATION:Huis van Actief Burgerschap\, Neude 11\, Utecht\, NH\, 3512 AE\, Netherlands
CATEGORIES:Huisvanactiefburgerschap Landelijk,Huisvanactiefburgerschap Utrecht
ATTACH;FMTTYPE=image/jpeg:https://huisvanactiefburgerschap.nl/wp-content/uploads/2025/06/Buiten-je-bubbel-samenlezen-1.2.jpeg-scaled.jpg
END:VEVENT
END:VCALENDAR