BEGIN:VCALENDAR
VERSION:2.0
PRODID:-//Huis van actief burgerschap - ECPv6.15.20//NONSGML v1.0//EN
CALSCALE:GREGORIAN
METHOD:PUBLISH
X-WR-CALNAME:Huis van actief burgerschap
X-ORIGINAL-URL:https://huisvanactiefburgerschap.nl
X-WR-CALDESC:Evenementen voor Huis van actief burgerschap
REFRESH-INTERVAL;VALUE=DURATION:PT1H
X-Robots-Tag:noindex
X-PUBLISHED-TTL:PT1H
BEGIN:VTIMEZONE
TZID:Europe/Amsterdam
BEGIN:DAYLIGHT
TZOFFSETFROM:+0100
TZOFFSETTO:+0200
TZNAME:CEST
DTSTART:20240331T010000
END:DAYLIGHT
BEGIN:STANDARD
TZOFFSETFROM:+0200
TZOFFSETTO:+0100
TZNAME:CET
DTSTART:20241027T010000
END:STANDARD
BEGIN:DAYLIGHT
TZOFFSETFROM:+0100
TZOFFSETTO:+0200
TZNAME:CEST
DTSTART:20250330T010000
END:DAYLIGHT
BEGIN:STANDARD
TZOFFSETFROM:+0200
TZOFFSETTO:+0100
TZNAME:CET
DTSTART:20251026T010000
END:STANDARD
BEGIN:DAYLIGHT
TZOFFSETFROM:+0100
TZOFFSETTO:+0200
TZNAME:CEST
DTSTART:20260329T010000
END:DAYLIGHT
BEGIN:STANDARD
TZOFFSETFROM:+0200
TZOFFSETTO:+0100
TZNAME:CET
DTSTART:20261025T010000
END:STANDARD
END:VTIMEZONE
BEGIN:VEVENT
DTSTART;TZID=Europe/Amsterdam:20251014T190000
DTEND;TZID=Europe/Amsterdam:20251014T210000
DTSTAMP:20260420T061350
CREATED:20250722T100049Z
LAST-MODIFIED:20251203T101842Z
UID:10000018-1760468400-1760475600@huisvanactiefburgerschap.nl
SUMMARY:De Kleurrijke Denker
DESCRIPTION:Welkom bij deze serie groepsbijeenkomsten waarin ouderen en jongeren met elkaar in gesprek gaan rond het thema verbondenheid. Misschien zou je ook kunnen zeggen: eenheid in verscheidenheid. (dat verwijst dan naar non-dualiteit). \nIn een tijd waarin de verschillende generaties elkaar soms minder vanzelfsprekend ontmoeten\, willen we hier ruimte scheppen voor echte ontmoeting\, uitwisseling en inspiratie. Jong en oud brengen elk hun eigen ervaringen\, vragen en inzichten mee. \nWe laten ons in deze bijeenkomsten leiden door uitspraken uit verschillende wijsheidstradities: uit religies en levensbeschouwingen tot filosofieën van over de hele wereld. Deze woorden nodigen ons uit om stil te staan bij wat het betekent om met elkaar verbonden te zijn — als mensen\, als generaties\, als deel van een groter geheel. Met elkaar vormen we zo een bron van gedeelde wijsheid. \nElke bijeenkomst starten we met een korte reflectie op een citaat.  Daarna gaan we in gesprek\, in openheid en met respect voor ieders verhaal. \nWe hopen dat dit een plek mag zijn waar nieuwe verbindingen ontstaan\, en waar we samen ontdekken hoe oude woorden nieuwe betekenis kunnen krijgen — in het leven van vandaag. \nGratis toegankelijk. Aanmelden via volgend mailadres: roosrit@xs4all.nl\nVanaf dinsdag 16 september twee wekelijks\, zeven sessies.
URL:https://huisvanactiefburgerschap.nl/agenda/geen-tegenstellingen-maar-verbondenheid/2025-10-14/
CATEGORIES:Huisvanactiefburgerschap Utrecht
ATTACH;FMTTYPE=image/jpeg:https://huisvanactiefburgerschap.nl/wp-content/uploads/2025/07/kleurrijke-denker.jpg
END:VEVENT
BEGIN:VEVENT
DTSTART;TZID=Europe/Amsterdam:20251015T193000
DTEND;TZID=Europe/Amsterdam:20251015T210000
DTSTAMP:20260420T061350
CREATED:20250930T122134Z
LAST-MODIFIED:20250930T122257Z
UID:10000040-1760556600-1760562000@huisvanactiefburgerschap.nl
SUMMARY:Symposium: De kracht van meertaligheid in het basisonderwijs  
DESCRIPTION:Symposium: De kracht van meertaligheid in het basisonderwijs \nKansenongelijkheid is een groeiend vraagstuk in het basisonderwijs. Taal speelt daarin een belangrijke rol. De thuistaal van kinderen kan juist een waardevolle steun zijn bij het leren van Nederlands. De Onderwijsraad adviseert daarom om meertaligheid actiever in te zetten op school. Tijdens dit symposium van HUB Utrecht in de Bibliotheek Neude gaan ouders\, leraren en experts met elkaar in gesprek over hoe meertaligheid kansen kan vergroten\, welke hulpmiddelen daarbij helpen en welke valkuilen we beter kunnen vermijden. \nWo 15 oktober\nBibliotheek Neude (het Huis van Actief Burgerschap)\n19:30 – 21:00 uur\, met borrel\ngratis \nMeld je hier aan!  
URL:https://huisvanactiefburgerschap.nl/agenda/symposium-de-kracht-van-meertaligheid-in-het-basisonderwijs/
CATEGORIES:Huisvanactiefburgerschap Utrecht
ATTACH;FMTTYPE=image/jpeg:https://huisvanactiefburgerschap.nl/wp-content/uploads/2025/09/RTV-Utrecht-en-Hub.jpeg
END:VEVENT
BEGIN:VEVENT
DTSTART;TZID=Europe/Amsterdam:20251016T180000
DTEND;TZID=Europe/Amsterdam:20251016T203000
DTSTAMP:20260420T061350
CREATED:20251009T172506Z
LAST-MODIFIED:20251009T172506Z
UID:10000042-1760637600-1760646600@huisvanactiefburgerschap.nl
SUMMARY:Nice Here with Floortje
DESCRIPTION:Nice Here with Floortje\n\n\n\nBuilding a caring city: amplifying voices of homeless people and other citizens\n\n\n\nHow do we create cities that are more inclusive? As a citymaker\, Floortje works at the intersection of policy and practice\, greening public spaces with neighbors\, hosting community dinners\, and initiating small-scale experiments that make neighborhoods more livable.\n\n\n\nIn this session\, she will not only share her journey as a citymaker\, but also highlight her recent book ‘Here I Am at Home’\, created in a participatory process together with six people experiencing homelessness. The book tells stories that go beyond the stigma\, stories about talents\, dreams\, and resilience\, as well as the multiple and often complex reasons why someone can become homeless.\n\n\n\nHomelessness has become an increasingly pressing topic in Dutch cities\, including Utrecht\, where shelters are under pressure and the number of people without stable housing has grown in recent years.  By placing these alternative stories at the center\, Floortje and the six storytellers challenge us to reflect on what homelessness really means\, and how easily it could become a reality for any of us when a series of unfortunate events—such as losing a job\, conflict within the family\, or falling ill—collides with the ongoing housing crisis.\n\n\n\nHow do we break through the stigma surrounding it? And in what ways can the voices of vulnerable city dwellers transform our understanding of urban life? Together with Floortje\, we will explore how citymaking is not only about building spaces\, but also about listening\, fostering equality\, and sharing responsibility.\n\n\n16 okt 2025\, 18:00 – 20:30\nHuis van Actief Burgerschap\, Neude 11\, 3512 AE Utrecht\, Netherlands\nFree\nReserve your ticket here: https://www.nicehere.nl/event-details/nice-here-with-floortje
URL:https://huisvanactiefburgerschap.nl/agenda/nice-here-with-floortje/
CATEGORIES:Huisvanactiefburgerschap Utrecht
END:VEVENT
BEGIN:VEVENT
DTSTART;TZID=Europe/Amsterdam:20251017T100000
DTEND;TZID=Europe/Amsterdam:20251017T123000
DTSTAMP:20260420T061350
CREATED:20251013T124133Z
LAST-MODIFIED:20251013T124133Z
UID:10000043-1760695200-1760704200@huisvanactiefburgerschap.nl
SUMMARY:Workshop: Smart farming future Duurzaam Utrecht
DESCRIPTION:Would you like to be inspired to think about sustainable food? On Friday 17 October\, we are organising a Smart Farming Future workshop in Huis van Actief Burgerschap\, Library Neude\, Utrecht-centre. \nThen talk to a group of Turkish young people who want to learn from Dutch experience with smart sustainable agriculture. For example\, play the role of a young farmer or farmer’s wife in the morning from 10-12.30 am\, who wants to start a sustainable farm in 2040 and is looking for support from investors\, food industry\, consumers and environmental movement. And in the afternoon from 2 to 4 p.m.\, work on a strategy to contribute to the transition to sustainable agriculture in Europe and Turkiye between 2025 and 2040. \nPlan: \nMorning: \n10.00-12.30 Imagining the future of smart farming \n\nCheck-in (10 minutes)\nIntroduction & Q&A (20 minutes)\nRole play (90 minutes)\nEvaluation (30 minutes)\n\n12.30-14.00 lunch at your own cost \nAfternoon: \n14.00-16.00 Dialogue and Backcasting \n\nIntroduction (10 minutes)\nWorld café round 1 (45 minutes)\nBreak (10 minutes)\nWorld café round 2 (45 minutes)\nConclusions and follow up (10 minutes)
URL:https://huisvanactiefburgerschap.nl/agenda/workshop-smart-farming-future-duurzaam-utrecht/2025-10-17/1/
END:VEVENT
BEGIN:VEVENT
DTSTART;TZID=Europe/Amsterdam:20251017T140000
DTEND;TZID=Europe/Amsterdam:20251017T160000
DTSTAMP:20260420T061350
CREATED:20251013T124133Z
LAST-MODIFIED:20251013T124133Z
UID:10000044-1760709600-1760716800@huisvanactiefburgerschap.nl
SUMMARY:Workshop: Smart farming future Duurzaam Utrecht
DESCRIPTION:Would you like to be inspired to think about sustainable food? On Friday 17 October\, we are organising a Smart Farming Future workshop in Huis van Actief Burgerschap\, Library Neude\, Utrecht-centre. \nThen talk to a group of Turkish young people who want to learn from Dutch experience with smart sustainable agriculture. For example\, play the role of a young farmer or farmer’s wife in the morning from 10-12.30 am\, who wants to start a sustainable farm in 2040 and is looking for support from investors\, food industry\, consumers and environmental movement. And in the afternoon from 2 to 4 p.m.\, work on a strategy to contribute to the transition to sustainable agriculture in Europe and Turkiye between 2025 and 2040. \nPlan: \nMorning: \n10.00-12.30 Imagining the future of smart farming \n\nCheck-in (10 minutes)\nIntroduction & Q&A (20 minutes)\nRole play (90 minutes)\nEvaluation (30 minutes)\n\n12.30-14.00 lunch at your own cost \nAfternoon: \n14.00-16.00 Dialogue and Backcasting \n\nIntroduction (10 minutes)\nWorld café round 1 (45 minutes)\nBreak (10 minutes)\nWorld café round 2 (45 minutes)\nConclusions and follow up (10 minutes)
URL:https://huisvanactiefburgerschap.nl/agenda/workshop-smart-farming-future-duurzaam-utrecht/2025-10-17/2/
END:VEVENT
END:VCALENDAR