BEGIN:VCALENDAR
VERSION:2.0
PRODID:-//Huis van actief burgerschap - ECPv6.15.20//NONSGML v1.0//EN
CALSCALE:GREGORIAN
METHOD:PUBLISH
X-WR-CALNAME:Huis van actief burgerschap
X-ORIGINAL-URL:https://huisvanactiefburgerschap.nl
X-WR-CALDESC:Evenementen voor Huis van actief burgerschap
REFRESH-INTERVAL;VALUE=DURATION:PT1H
X-Robots-Tag:noindex
X-PUBLISHED-TTL:PT1H
BEGIN:VTIMEZONE
TZID:Europe/Amsterdam
BEGIN:DAYLIGHT
TZOFFSETFROM:+0100
TZOFFSETTO:+0200
TZNAME:CEST
DTSTART:20240331T010000
END:DAYLIGHT
BEGIN:STANDARD
TZOFFSETFROM:+0200
TZOFFSETTO:+0100
TZNAME:CET
DTSTART:20241027T010000
END:STANDARD
BEGIN:DAYLIGHT
TZOFFSETFROM:+0100
TZOFFSETTO:+0200
TZNAME:CEST
DTSTART:20250330T010000
END:DAYLIGHT
BEGIN:STANDARD
TZOFFSETFROM:+0200
TZOFFSETTO:+0100
TZNAME:CET
DTSTART:20251026T010000
END:STANDARD
BEGIN:DAYLIGHT
TZOFFSETFROM:+0100
TZOFFSETTO:+0200
TZNAME:CEST
DTSTART:20260329T010000
END:DAYLIGHT
BEGIN:STANDARD
TZOFFSETFROM:+0200
TZOFFSETTO:+0100
TZNAME:CET
DTSTART:20261025T010000
END:STANDARD
END:VTIMEZONE
BEGIN:VEVENT
DTSTART;TZID=Europe/Amsterdam:20251105T193000
DTEND;TZID=Europe/Amsterdam:20251105T213000
DTSTAMP:20260420T015030
CREATED:20250924T115930Z
LAST-MODIFIED:20251105T180603Z
UID:10000045-1762371000-1762378200@huisvanactiefburgerschap.nl
SUMMARY:Lezing: van globale overmacht naar mondiaal gezag
DESCRIPTION:Van globale overmacht naar mondiaal gezag.\nVierdelige presentatiereeks over het loskomen uit het huidige westerse denken. Door Niek Albers. \nNiek Albers (1935) is naar eigen zeggen een koloniaal kleinkind. Hij heeft in zijn leven en loopbaan\, als katholiek pastoor in Indonesië en opbouwwerker in Nederland voor migranten\, de invloed van het Westerse systeem van dichtbij meegemaakt. De wereldgeschiedenis is vier eeuwen lang opgeschreven door Europees-Westerse geleerden\, met vertekeningen en grote lacunes tot gevolg. In deze vierdelige lezingenreeks worden deze vertekeningen en lacunes behandelt\, om de actualiteit van nu beter te begrijpen en de wereld niet alleen vanuit Westers perspectief\, maar vanuit de universele rechten van de mens te zien. \nDe thema’s per lezing: \n1. Woensdag 5 november: Van Westerse overmacht naar Mondiaal gezag \nIn de huidige wereld heeft het Westen de overmacht. Wat gebeurt als we luisteren naar de stemmen van de landen die gekoloniseerd waren en vrijheid gekregen hebben? De stem van mondiaal gezag. \n2. Woensdag 12 november: Van Discriminatie naar Mensenrechten \nTerwijl het Westen en Rusland streden over vrijheid en gelijkheid\, waren deze twee begrippen voor de nieuwe toetreders tot de VN vanzelfsprekend. Vrijheid en gelijkheid moeten constant getoetst worden of ze in balans zijn\, door voorafgaand te toetsen op het gloednieuwe beginsel non-discriminatie; wordt een groep onderdrukt of niet? \n3. Woensdag 19 november: Van verspilling naar Ecosociaal \nMensen hebben recht op bestaanszekerheid en op een leefbare aarde. Daarom pleit ik voor het samengaan van de twee wetenschappen economie en ecologie. Dit kan leiden tot rechtvaardige ecosociale situaties\, verkeer en beleid.  \n4. Woensdag 26 november: Van oorlog naar vrede \nHoe kan onderwijs en opvoeding bijdragen aan samenleven en -werken in vrede. We besteden veel aandacht aan gelijkberechtiging in het onderwijs\, dat de kinderen op de eerste plaats komen in het onderwijs. \nVan 19:30 uur tot 21:00 uur in het Huis van Actief Burgerschap. \nGratis \nAanmelden kan via telefoon of mail: \n06-333 220 96 /  niekadriaan@gmail.com
URL:https://huisvanactiefburgerschap.nl/agenda/lezing-van-globale-overmacht-naar-mondiaal-gezag/2025-11-05/
LOCATION:Huis van Actief Burgerschap\, Neude 11\, Utecht\, NH\, 3512 AE\, Netherlands
ATTACH;FMTTYPE=image/jpeg:https://huisvanactiefburgerschap.nl/wp-content/uploads/2025/09/Niek-Albers-lq-rotated.jpg
END:VEVENT
BEGIN:VEVENT
DTSTART;TZID=Europe/Amsterdam:20251106T193000
DTEND;TZID=Europe/Amsterdam:20251106T204500
DTSTAMP:20260420T015030
CREATED:20250619T103410Z
LAST-MODIFIED:20250619T103458Z
UID:10000015-1762457400-1762461900@huisvanactiefburgerschap.nl
SUMMARY:'Buiten je Bubbel' met Samenlezen
DESCRIPTION:Vind jij het ook spannend om met anderen te praten over beladen en polariserende onderwerpen als klimaatverandering\, de opvang van vluchtelingen of het denken in genderhokjes? Lijkt het je fijn om dat toch eens te doen op een prettige manier die gericht is op het creëren van onderling begrip en nuance in plaats van op debat en gelijk krijgen? Kom dan naar ‘Buiten je bubbel met samenlezen’\, tussen 11 september en 6 november tweewekelijks in het Huis van Actief Burgerschap\, van 19.30 tot 20.45 uur. Onder begeleiding van een vrijwilliger van de Culturele Apotheek lezen we telkens een paar rake gedichten en romanfragmenten rondom heikele thema’s en gaan we met elkaar in gesprek over onze gedachten\, associaties en ervaringen. We blijven weg van de welles-nietes-discussies maar omarmen de uitwisseling. Nieuwsgierig? Je bent van harte welkom! Aanmelden kan door een mail te sturen naar: marije@cultureleapotheek.nl
URL:https://huisvanactiefburgerschap.nl/agenda/buiten-je-bubbel-met-samenlezen/2025-11-06/
LOCATION:Huis van Actief Burgerschap\, Neude 11\, Utecht\, NH\, 3512 AE\, Netherlands
CATEGORIES:Huisvanactiefburgerschap Landelijk,Huisvanactiefburgerschap Utrecht
ATTACH;FMTTYPE=image/jpeg:https://huisvanactiefburgerschap.nl/wp-content/uploads/2025/06/Buiten-je-bubbel-samenlezen-1.2.jpeg-scaled.jpg
END:VEVENT
END:VCALENDAR