BEGIN:VCALENDAR
VERSION:2.0
PRODID:-//Huis van actief burgerschap - ECPv6.15.20//NONSGML v1.0//EN
CALSCALE:GREGORIAN
METHOD:PUBLISH
X-ORIGINAL-URL:https://huisvanactiefburgerschap.nl
X-WR-CALDESC:Evenementen voor Huis van actief burgerschap
REFRESH-INTERVAL;VALUE=DURATION:PT1H
X-Robots-Tag:noindex
X-PUBLISHED-TTL:PT1H
BEGIN:VTIMEZONE
TZID:Europe/Amsterdam
BEGIN:DAYLIGHT
TZOFFSETFROM:+0100
TZOFFSETTO:+0200
TZNAME:CEST
DTSTART:20240331T010000
END:DAYLIGHT
BEGIN:STANDARD
TZOFFSETFROM:+0200
TZOFFSETTO:+0100
TZNAME:CET
DTSTART:20241027T010000
END:STANDARD
BEGIN:DAYLIGHT
TZOFFSETFROM:+0100
TZOFFSETTO:+0200
TZNAME:CEST
DTSTART:20250330T010000
END:DAYLIGHT
BEGIN:STANDARD
TZOFFSETFROM:+0200
TZOFFSETTO:+0100
TZNAME:CET
DTSTART:20251026T010000
END:STANDARD
BEGIN:DAYLIGHT
TZOFFSETFROM:+0100
TZOFFSETTO:+0200
TZNAME:CEST
DTSTART:20260329T010000
END:DAYLIGHT
BEGIN:STANDARD
TZOFFSETFROM:+0200
TZOFFSETTO:+0100
TZNAME:CET
DTSTART:20261025T010000
END:STANDARD
END:VTIMEZONE
BEGIN:VEVENT
DTSTART;TZID=Europe/Amsterdam:20251112T100000
DTEND;TZID=Europe/Amsterdam:20251112T120000
DTSTAMP:20260420T050620
CREATED:20251016T172600Z
LAST-MODIFIED:20251023T123729Z
UID:10000047-1762941600-1762948800@huisvanactiefburgerschap.nl
SUMMARY:Meet the Judge
DESCRIPTION:Ontmoet een rechter in de bibliotheek \nWelke zaak is u altijd bijgebleven? Waarom dragen rechters een toga? En hoe word je rechter? Op woensdag 12 november om 10.00 uur ben je welkom in het Huis van Actief Burgerschap om in gesprek gaan met een rechter van rechtbank Midden-Nederland. Alle vragen mogen gesteld worden\, maar vragen over eigen juridische kwesties of lopende rechtszaken kunnen niet worden beantwoord. Ben jij benieuwd naar het werk van rechters en de Nederlandse rechtspraak? Meld je dan aan via het aanmeldformulier. \n  \nWoensdag 12 november\n10:00 – 12:00\nHuis van Actief Burgerschap\nGratis met aanmelden \n 
URL:https://huisvanactiefburgerschap.nl/agenda/meet-the-judge/
CATEGORIES:Huisvanactiefburgerschap Landelijk,Huisvanactiefburgerschap Utrecht
ATTACH;FMTTYPE=image/jpeg:https://huisvanactiefburgerschap.nl/wp-content/uploads/2025/10/Meet-the-judge-cartoon-1.jpg
END:VEVENT
BEGIN:VEVENT
DTSTART;TZID=Europe/Amsterdam:20251112T193000
DTEND;TZID=Europe/Amsterdam:20251112T213000
DTSTAMP:20260420T050620
CREATED:20250924T115930Z
LAST-MODIFIED:20251105T180603Z
UID:10000031-1762975800-1762983000@huisvanactiefburgerschap.nl
SUMMARY:Lezing: van globale overmacht naar mondiaal gezag
DESCRIPTION:Van globale overmacht naar mondiaal gezag.\nVierdelige presentatiereeks over het loskomen uit het huidige westerse denken. Door Niek Albers. \nNiek Albers (1935) is naar eigen zeggen een koloniaal kleinkind. Hij heeft in zijn leven en loopbaan\, als katholiek pastoor in Indonesië en opbouwwerker in Nederland voor migranten\, de invloed van het Westerse systeem van dichtbij meegemaakt. De wereldgeschiedenis is vier eeuwen lang opgeschreven door Europees-Westerse geleerden\, met vertekeningen en grote lacunes tot gevolg. In deze vierdelige lezingenreeks worden deze vertekeningen en lacunes behandelt\, om de actualiteit van nu beter te begrijpen en de wereld niet alleen vanuit Westers perspectief\, maar vanuit de universele rechten van de mens te zien. \nDe thema’s per lezing: \n1. Woensdag 5 november: Van Westerse overmacht naar Mondiaal gezag \nIn de huidige wereld heeft het Westen de overmacht. Wat gebeurt als we luisteren naar de stemmen van de landen die gekoloniseerd waren en vrijheid gekregen hebben? De stem van mondiaal gezag. \n2. Woensdag 12 november: Van Discriminatie naar Mensenrechten \nTerwijl het Westen en Rusland streden over vrijheid en gelijkheid\, waren deze twee begrippen voor de nieuwe toetreders tot de VN vanzelfsprekend. Vrijheid en gelijkheid moeten constant getoetst worden of ze in balans zijn\, door voorafgaand te toetsen op het gloednieuwe beginsel non-discriminatie; wordt een groep onderdrukt of niet? \n3. Woensdag 19 november: Van verspilling naar Ecosociaal \nMensen hebben recht op bestaanszekerheid en op een leefbare aarde. Daarom pleit ik voor het samengaan van de twee wetenschappen economie en ecologie. Dit kan leiden tot rechtvaardige ecosociale situaties\, verkeer en beleid.  \n4. Woensdag 26 november: Van oorlog naar vrede \nHoe kan onderwijs en opvoeding bijdragen aan samenleven en -werken in vrede. We besteden veel aandacht aan gelijkberechtiging in het onderwijs\, dat de kinderen op de eerste plaats komen in het onderwijs. \nVan 19:30 uur tot 21:00 uur in het Huis van Actief Burgerschap. \nGratis \nAanmelden kan via telefoon of mail: \n06-333 220 96 /  niekadriaan@gmail.com
URL:https://huisvanactiefburgerschap.nl/agenda/lezing-van-globale-overmacht-naar-mondiaal-gezag/2025-11-12/
LOCATION:Huis van Actief Burgerschap\, Neude 11\, Utecht\, NH\, 3512 AE\, Netherlands
ATTACH;FMTTYPE=image/jpeg:https://huisvanactiefburgerschap.nl/wp-content/uploads/2025/09/Niek-Albers-lq-rotated.jpg
END:VEVENT
BEGIN:VEVENT
DTSTART;TZID=Europe/Amsterdam:20251113T180000
DTEND;TZID=Europe/Amsterdam:20251113T203000
DTSTAMP:20260420T050620
CREATED:20251016T140654Z
LAST-MODIFIED:20251023T144901Z
UID:10000046-1763056800-1763065800@huisvanactiefburgerschap.nl
SUMMARY:Nice Here with Donica
DESCRIPTION:Our unconscious bias: Inclusion and exclusion in the Public Space \nIn this edition we are joined by Donica\, founder and director of RAUM: “the place we make together”. This gem on Utrecht’s Berlijnplein is an international example in creative placemaking and inclusive program practices. A baselines measurement research -by STIPO- confirmed however that seemingly inclusive practices can also lead to exclusion. This workshop creates insights in our unconscious biases and gives tools to work on public spaces from (underrepresented) communities themselves. \n“There are huge potentials in democratizing processes in city and community development — but there is NO way you can do that if you do not mitigate unconscious bias. How do we include and engage all people and communities and turn them into engines for developing livable cities?“\, – Tinna C Nielsen\, inclusion & diversity expert (https://www.weforum.org/people/tinna-c-nielsen/) \nRAUM uses real life based exercises -that led to unwanted exclusion in the programme and the design for the future cultural facility- to test peoples own unconscious biases. There will be a deeper insight on the research by STIPO -Dutch multi-disciplinary consultancy team for urban strategy and city development. And you will be given tools that have been used to create more inclusion with different groups\, such as people with disabilities\, residents with a Moroccan background and elderly people. \n– 13 november 2025\, 18:00 – 20:30\n– Huis van Actief Burgerschap\, Neude 11\, 3512 AE Utrecht\, Netherlands\n– Free entrance. Reserve your ticket here
URL:https://huisvanactiefburgerschap.nl/agenda/nice-here-with-donica/
CATEGORIES:Huisvanactiefburgerschap Utrecht
ATTACH;FMTTYPE=image/avif:https://huisvanactiefburgerschap.nl/wp-content/uploads/2025/10/Nice-here-with-Donica.avif
END:VEVENT
BEGIN:VEVENT
DTSTART;TZID=Europe/Amsterdam:20251114T193000
DTEND;TZID=Europe/Amsterdam:20251114T210000
DTSTAMP:20260420T050620
CREATED:20251106T112546Z
LAST-MODIFIED:20251112T120526Z
UID:10000060-1763148600-1763154000@huisvanactiefburgerschap.nl
SUMMARY:De Rechtbank van de Toekomst
DESCRIPTION:Huis van Actief Burgerschap – Gratis\, wel reserveren\n\n\nMet een slag van de hamer van de rechter is deze zitting op 14 november 2118 geopend. De wereld anno 2118 ziet er niet fraai uit; de aarde is verder opgewarmd\, vele plant- en diersoorten zijn uitgestorven en schoon water\, land en lucht zijn schaars. Reden dus voor de boom\, de vogel\, de gletsjer en de mens uit 2118 om het verleden in deze rechtzaak aan te klagen. Waarom deden de mensen in 2025 niet meer? En wie had er nou welke verantwoordelijkheid? In het beklaagdenbankje bevinden zich de burger\, het bedrijfsleven en de Staat der Nederlanden\, die allemaal antwoord moeten geven op deze schuldvraag. Uiteindelijk is het aan de jury om hier vonnis over te vellen en maatregelen aan te dragen die de aanklagers gerechtigheid kunnen bieden. \nEen wervelende interactieve theatervoorstelling waarin deelnemers zelf een rol spelen in deze klimaatrechtzaak. Dit zeiden eerdere deelnemers erover: \nMonique: “bijzonder om aan deel te nemen! Een vernieuwende en originele manier om het gesprek aan te gaan en te reflecteren”. \nRik: “Een geweldig idee dat ook heel goed werkt\, voor mezelf als deelnemer merkte ik hoe het mijn blik op het geheel ‘vernieuwde’.” \nLet op: De zitting heeft plek voor 35 deelnemers. Registreer dus op tijd je ticket!
URL:https://huisvanactiefburgerschap.nl/agenda/de-rechtbank-van-de-toekomst/
CATEGORIES:Huisvanactiefburgerschap Landelijk,Huisvanactiefburgerschap Utrecht
ATTACH;FMTTYPE=image/jpeg:https://huisvanactiefburgerschap.nl/wp-content/uploads/2025/11/68c47545d0723.jpg
END:VEVENT
END:VCALENDAR