BEGIN:VCALENDAR
VERSION:2.0
PRODID:-//Huis van actief burgerschap - ECPv6.15.20//NONSGML v1.0//EN
CALSCALE:GREGORIAN
METHOD:PUBLISH
X-WR-CALNAME:Huis van actief burgerschap
X-ORIGINAL-URL:https://huisvanactiefburgerschap.nl
X-WR-CALDESC:Evenementen voor Huis van actief burgerschap
REFRESH-INTERVAL;VALUE=DURATION:PT1H
X-Robots-Tag:noindex
X-PUBLISHED-TTL:PT1H
BEGIN:VTIMEZONE
TZID:Europe/Amsterdam
BEGIN:DAYLIGHT
TZOFFSETFROM:+0100
TZOFFSETTO:+0200
TZNAME:CEST
DTSTART:20240331T010000
END:DAYLIGHT
BEGIN:STANDARD
TZOFFSETFROM:+0200
TZOFFSETTO:+0100
TZNAME:CET
DTSTART:20241027T010000
END:STANDARD
BEGIN:DAYLIGHT
TZOFFSETFROM:+0100
TZOFFSETTO:+0200
TZNAME:CEST
DTSTART:20250330T010000
END:DAYLIGHT
BEGIN:STANDARD
TZOFFSETFROM:+0200
TZOFFSETTO:+0100
TZNAME:CET
DTSTART:20251026T010000
END:STANDARD
BEGIN:DAYLIGHT
TZOFFSETFROM:+0100
TZOFFSETTO:+0200
TZNAME:CEST
DTSTART:20260329T010000
END:DAYLIGHT
BEGIN:STANDARD
TZOFFSETFROM:+0200
TZOFFSETTO:+0100
TZNAME:CET
DTSTART:20261025T010000
END:STANDARD
END:VTIMEZONE
BEGIN:VEVENT
DTSTART;TZID=Europe/Amsterdam:20251126T193000
DTEND;TZID=Europe/Amsterdam:20251126T213000
DTSTAMP:20260420T003108
CREATED:20250924T115930Z
LAST-MODIFIED:20251105T180603Z
UID:10000033-1764185400-1764192600@huisvanactiefburgerschap.nl
SUMMARY:Lezing: van globale overmacht naar mondiaal gezag
DESCRIPTION:Van globale overmacht naar mondiaal gezag.\nVierdelige presentatiereeks over het loskomen uit het huidige westerse denken. Door Niek Albers. \nNiek Albers (1935) is naar eigen zeggen een koloniaal kleinkind. Hij heeft in zijn leven en loopbaan\, als katholiek pastoor in Indonesië en opbouwwerker in Nederland voor migranten\, de invloed van het Westerse systeem van dichtbij meegemaakt. De wereldgeschiedenis is vier eeuwen lang opgeschreven door Europees-Westerse geleerden\, met vertekeningen en grote lacunes tot gevolg. In deze vierdelige lezingenreeks worden deze vertekeningen en lacunes behandelt\, om de actualiteit van nu beter te begrijpen en de wereld niet alleen vanuit Westers perspectief\, maar vanuit de universele rechten van de mens te zien. \nDe thema’s per lezing: \n1. Woensdag 5 november: Van Westerse overmacht naar Mondiaal gezag \nIn de huidige wereld heeft het Westen de overmacht. Wat gebeurt als we luisteren naar de stemmen van de landen die gekoloniseerd waren en vrijheid gekregen hebben? De stem van mondiaal gezag. \n2. Woensdag 12 november: Van Discriminatie naar Mensenrechten \nTerwijl het Westen en Rusland streden over vrijheid en gelijkheid\, waren deze twee begrippen voor de nieuwe toetreders tot de VN vanzelfsprekend. Vrijheid en gelijkheid moeten constant getoetst worden of ze in balans zijn\, door voorafgaand te toetsen op het gloednieuwe beginsel non-discriminatie; wordt een groep onderdrukt of niet? \n3. Woensdag 19 november: Van verspilling naar Ecosociaal \nMensen hebben recht op bestaanszekerheid en op een leefbare aarde. Daarom pleit ik voor het samengaan van de twee wetenschappen economie en ecologie. Dit kan leiden tot rechtvaardige ecosociale situaties\, verkeer en beleid.  \n4. Woensdag 26 november: Van oorlog naar vrede \nHoe kan onderwijs en opvoeding bijdragen aan samenleven en -werken in vrede. We besteden veel aandacht aan gelijkberechtiging in het onderwijs\, dat de kinderen op de eerste plaats komen in het onderwijs. \nVan 19:30 uur tot 21:00 uur in het Huis van Actief Burgerschap. \nGratis \nAanmelden kan via telefoon of mail: \n06-333 220 96 /  niekadriaan@gmail.com
URL:https://huisvanactiefburgerschap.nl/agenda/lezing-van-globale-overmacht-naar-mondiaal-gezag/2025-11-26/
LOCATION:Huis van Actief Burgerschap\, Neude 11\, Utecht\, NH\, 3512 AE\, Netherlands
ATTACH;FMTTYPE=image/jpeg:https://huisvanactiefburgerschap.nl/wp-content/uploads/2025/09/Niek-Albers-lq-rotated.jpg
END:VEVENT
BEGIN:VEVENT
DTSTART;TZID=Europe/Amsterdam:20251127T093000
DTEND;TZID=Europe/Amsterdam:20251127T120000
DTSTAMP:20260420T003108
CREATED:20251120T090945Z
LAST-MODIFIED:20251120T090945Z
UID:10000326-1764235800-1764244800@huisvanactiefburgerschap.nl
SUMMARY:Inloopspreekuur VSB fonds en K.F.Heinfonds
DESCRIPTION:Buurtbewoners dichter bij elkaar brengen. Jongeren een steuntje in de rug geven. Ervoor zorgen dat iedereen erbij hoort. Zomaar wat dromen\, waar je samen met VSBfonds en het K.F. Hein Fonds werk van kunt maken! 💪 \nOp donderdag 27 november organiseren we namelijk samen een inloopspreekuur in het Huis van Actief Burgerschap in de Bibliotheek Utrecht. Onze adviseurs helpen je gratis met vragen over je plan. We kijken samen of je een aanvraag kunt indienen bij een van de fondsen voor financiering. \nAl van alles op papier? Of nog enkel een idee in je hoofd? Dat maakt ons niet uit. We kunnen je in elke stap handig advies geven\, waarmee je verder kunt. \nAlles op een rij: \n🕰️ Donderdag 27 november\, van 9:30 tot 12:00\n📌 Huis van Actief Burgerschap\, Bibliotheek Neude\, Neude 11 in Utrecht\n💻 Aanmelden niet nodig\, langskomen is gratis! \nWe zien je op 27 november!
URL:https://huisvanactiefburgerschap.nl/agenda/inloopspreekuur-vsb-fonds-en-k-f-heinfonds/
CATEGORIES:Huisvanactiefburgerschap Landelijk,Huisvanactiefburgerschap Utrecht
ATTACH;FMTTYPE=image/png:https://huisvanactiefburgerschap.nl/wp-content/uploads/2025/11/thumbnail_Beeld-KFH-x-VSBf-LQ.png
END:VEVENT
BEGIN:VEVENT
DTSTART;TZID=Europe/Amsterdam:20251127T120000
DTEND;TZID=Europe/Amsterdam:20251127T130000
DTSTAMP:20260420T003108
CREATED:20251126T105441Z
LAST-MODIFIED:20251126T105441Z
UID:10000064-1764244800-1764248400@huisvanactiefburgerschap.nl
SUMMARY:Stadmakerslunch
DESCRIPTION:Een Stadmakerslunch voor alle actieve Utrechters die de stad beter\, mooier en inclusiever maken. Stel je vraag\, pitch je project en ontmoet andere actieve doeners en hun initiatieven!
URL:https://huisvanactiefburgerschap.nl/agenda/bring-your-own-lunch-3/
CATEGORIES:Huisvanactiefburgerschap Utrecht
ATTACH;FMTTYPE=image/jpeg:https://huisvanactiefburgerschap.nl/wp-content/uploads/2025/11/HvAB.jpg
END:VEVENT
BEGIN:VEVENT
DTSTART;TZID=Europe/Amsterdam:20251127T191500
DTEND;TZID=Europe/Amsterdam:20251127T213000
DTSTAMP:20260420T003108
CREATED:20251023T150556Z
LAST-MODIFIED:20251027T160811Z
UID:10000050-1764270900-1764279000@huisvanactiefburgerschap.nl
SUMMARY:Bloeiklas: Wanneer is het ooit goed genoeg?
DESCRIPTION:Volgens het idee van zelfontplooiing zijn we nooit helemaal af. Er zijn altijd kansen om te groeien\, en daarmee vertellen we onszelf eigenlijk dat we nooit goed genoeg zijn. We voelen ons opgejaagd\, gestrest en ontevreden. Waarom moet het altijd meer\, beter\, gaver\, sneller? Zo’n ontevreden houding maakt ons ongelukkig. Wat kan ons daarbij helpen? Volgens David Steindl word je gelukkig door dankbaar te zijn in plaats van dankbaar door gelukkig te zijn. Elke kans die we krijgen\, is een moment om dankbaar te zijn. Maar hoe je dit vorm geeft kan nog lastig zijn. Want we willen allemaal iets anders of meer van hetzelfde. Waarom zijn we niet gelukkig met dat wat we al hebben? Kom oefenen tijdens deze avond en ervaar hoe dankbaarheid je een meer optimistische kijk op het leven kan geven \n\nDonderdag 27 november\nInloop 19:15 uur\, 19:30 uur – 21:30 uur\nHuis van Actief Burgerschap\, Neude 11\nGratis \nMeld je aan via deze link
URL:https://huisvanactiefburgerschap.nl/agenda/bloeiklas-wanneer-is-het-ooit-goed-genoeg/
CATEGORIES:Huisvanactiefburgerschap Landelijk,Huisvanactiefburgerschap Utrecht
ATTACH;FMTTYPE=image/jpeg:https://huisvanactiefburgerschap.nl/wp-content/uploads/2025/10/thumbnail_Bloeiklas-Utrecht.jpg
END:VEVENT
END:VCALENDAR