BEGIN:VCALENDAR
VERSION:2.0
PRODID:-//Huis van actief burgerschap - ECPv6.15.20//NONSGML v1.0//EN
CALSCALE:GREGORIAN
METHOD:PUBLISH
X-WR-CALNAME:Huis van actief burgerschap
X-ORIGINAL-URL:https://huisvanactiefburgerschap.nl
X-WR-CALDESC:Evenementen voor Huis van actief burgerschap
REFRESH-INTERVAL;VALUE=DURATION:PT1H
X-Robots-Tag:noindex
X-PUBLISHED-TTL:PT1H
BEGIN:VTIMEZONE
TZID:Europe/Amsterdam
BEGIN:DAYLIGHT
TZOFFSETFROM:+0100
TZOFFSETTO:+0200
TZNAME:CEST
DTSTART:20240331T010000
END:DAYLIGHT
BEGIN:STANDARD
TZOFFSETFROM:+0200
TZOFFSETTO:+0100
TZNAME:CET
DTSTART:20241027T010000
END:STANDARD
BEGIN:DAYLIGHT
TZOFFSETFROM:+0100
TZOFFSETTO:+0200
TZNAME:CEST
DTSTART:20250330T010000
END:DAYLIGHT
BEGIN:STANDARD
TZOFFSETFROM:+0200
TZOFFSETTO:+0100
TZNAME:CET
DTSTART:20251026T010000
END:STANDARD
BEGIN:DAYLIGHT
TZOFFSETFROM:+0100
TZOFFSETTO:+0200
TZNAME:CEST
DTSTART:20260329T010000
END:DAYLIGHT
BEGIN:STANDARD
TZOFFSETFROM:+0200
TZOFFSETTO:+0100
TZNAME:CET
DTSTART:20261025T010000
END:STANDARD
END:VTIMEZONE
BEGIN:VEVENT
DTSTART;TZID=Europe/Amsterdam:20251217T090000
DTEND;TZID=Europe/Amsterdam:20251217T180000
DTSTAMP:20260419T221403
CREATED:20251111T095553Z
LAST-MODIFIED:20251215T162618Z
UID:10000324-1765962000-1765994400@huisvanactiefburgerschap.nl
SUMMARY:Het Huis van Actief Burgerschap is vandaag helaas gesloten
DESCRIPTION:I.v.m. filmopnames is het Huis vandaag helaas gesloten. \nTot morgen!
URL:https://huisvanactiefburgerschap.nl/agenda/het-huis-van-actief-burgerschap-is-vandaag-helaas-gesloten/
ATTACH;FMTTYPE=image/jpeg:https://huisvanactiefburgerschap.nl/wp-content/uploads/2025/11/Het-HvAB-is-vandaag-gesloten-liggend.jpg
END:VEVENT
BEGIN:VEVENT
DTSTART;TZID=Europe/Amsterdam:20251218T191500
DTEND;TZID=Europe/Amsterdam:20251218T213000
DTSTAMP:20260419T221403
CREATED:20251023T151217Z
LAST-MODIFIED:20251215T090605Z
UID:10000051-1766085300-1766093400@huisvanactiefburgerschap.nl
SUMMARY:Bloeiklas x Stuttheater: Waarom is kwetsbaarheid ongemakkelijk?
DESCRIPTION:Het is verleidelijk onzekerheden en negatieve gevoelens te zien als persoonlijk falen. Je eerste reactie is wellicht de boel te negeren of ertegen te gaan vechten. Maar wat gebeurt er als je eerlijk je kwetsbaarheid deelt? Zouden we tegenslag\, imperfectie\, pijn en rotdagen kunnen omarmen als deel van het leven? Het ongeluk niet langer wegduwen\, maar ermee leren leven\, want kwetsbaarheid is een onderschatte kracht. We zijn – gelukkig – niet zulke superhumans als we zelf zouden willen. Openhartig zijn over tegenslag biedt ruimte voor anderen\, zelfacceptatie en het opdoen van levenservaring. Waarom blijft het delen van onze kwetsbaarheden\, zonder ze meteen een positieve draai te geven\, dan zo ingewikkeld? In deze bloeiklas bespreken we ons ongemak met narigheid en gaan we op zoek naar ruimte voor kwetsbaarheid. Waarom vinden we het zo lastig om hier eerlijk over te zijn? Waarom schamen we ons dat we naar een avond over ‘kwetsbaarheid’ willen? \nSpeciale editie: Bloeiklas en Stuttheater\nExtra bijzonder aan deze bloeiklas-editie is dat Stut Theater de theatrale opening verzorgt. Dit Utrechtse gezelschap maakt sociaal-artistiek theater op basis van maatschappelijke thema’s en echte verhalen. Verteld en gespeeld door de mensen die ze zelf hebben meegemaakt. Zo krijgen ervaringsdeskundige stemmen uit verschillende hoeken van de samenleving een podium. Op deze bloeiklas ontmoet je een aantal van hen.\n”Wat als er een koptelefoon bestond die gedachten kon opvangen: echte twijfels\, echte kwetsbaarheid? In dit experimentele opening neemt Stut Theater je mee naar een toekomst waar dat kan. Luister naar wat normaal onuitgesproken blijft. En misschien hoor je iets dat eigenlijk nooit voor jou bedoeld was.”\n\n  \n\nDonderdag 18 december\nInloop 19:15 uur\, 19:30 uur – 21:30 uur\nHuis van Actief Burgerschap\, Neude 11\nGratis\nMeld je aan via deze link
URL:https://huisvanactiefburgerschap.nl/agenda/bloeiklas-waarom-is-kwetsbaarheid-ongemakkelijk/
CATEGORIES:Huisvanactiefburgerschap Landelijk,Huisvanactiefburgerschap Utrecht
ATTACH;FMTTYPE=image/jpeg:https://huisvanactiefburgerschap.nl/wp-content/uploads/2025/10/thumbnail_Bloeiklas-Utrecht.jpg
END:VEVENT
END:VCALENDAR